BEGIN:VCALENDAR
VERSION:2.0
PRODID:-//Tukios.com/
BEGIN:VEVENT
UID:c41c06eb-d337-4976-a890-39c0180c6a0e@www.longbeachcolonial.com
DTSTAMP:20260420T220523Z
DTSTART:20260424T180000Z
DTEND:20260424T190000Z
SUMMARY:Funeral Service
DESCRIPTION:
URL:https://www.longbeachcolonial.com/obituaries/arthuree-matthews
LOCATION:Christ Second Baptist Church 1471 Martin Luther King Jr Ave  
	Long Beach CA 90813
GEO:33.784575;-118.1809529
END:VEVENT
END:VCALENDAR