BEGIN:VCALENDAR
VERSION:2.0
PRODID:-//Tukios.com/
BEGIN:VEVENT
UID:47ee0362-83bf-4ced-8f4f-775179743b12@www.longbeachcolonial.com
DTSTAMP:20260420T220645Z
DTSTART:20260424T170000Z
DTEND:20260424T180000Z
SUMMARY:Viewing
DESCRIPTION:
URL:https://www.longbeachcolonial.com/obituaries/arthuree-matthews
LOCATION:Christ Second Baptist Church 1471 Martin Luther King Jr Ave  
	Long Beach CA 90813
GEO:33.784575;-118.1809529
END:VEVENT
END:VCALENDAR